BEGIN:VCALENDAR
VERSION:2.0
PRODID:-//Aerie 3204 - ECPv6.15.20//NONSGML v1.0//EN
CALSCALE:GREGORIAN
METHOD:PUBLISH
X-WR-CALNAME:Aerie 3204
X-ORIGINAL-URL:https://eagles3204.com
X-WR-CALDESC:Events for Aerie 3204
REFRESH-INTERVAL;VALUE=DURATION:PT1H
X-Robots-Tag:noindex
X-PUBLISHED-TTL:PT1H
BEGIN:VTIMEZONE
TZID:America/New_York
BEGIN:DAYLIGHT
TZOFFSETFROM:-0500
TZOFFSETTO:-0400
TZNAME:EDT
DTSTART:20250309T070000
END:DAYLIGHT
BEGIN:STANDARD
TZOFFSETFROM:-0400
TZOFFSETTO:-0500
TZNAME:EST
DTSTART:20251102T060000
END:STANDARD
BEGIN:DAYLIGHT
TZOFFSETFROM:-0500
TZOFFSETTO:-0400
TZNAME:EDT
DTSTART:20260308T070000
END:DAYLIGHT
BEGIN:STANDARD
TZOFFSETFROM:-0400
TZOFFSETTO:-0500
TZNAME:EST
DTSTART:20261101T060000
END:STANDARD
BEGIN:DAYLIGHT
TZOFFSETFROM:-0500
TZOFFSETTO:-0400
TZNAME:EDT
DTSTART:20270314T070000
END:DAYLIGHT
BEGIN:STANDARD
TZOFFSETFROM:-0400
TZOFFSETTO:-0500
TZNAME:EST
DTSTART:20271107T060000
END:STANDARD
END:VTIMEZONE
BEGIN:VEVENT
DTSTART;TZID=America/New_York:20260424T170000
DTEND;TZID=America/New_York:20260424T200000
DTSTAMP:20260424T044412
CREATED:20250523T114131Z
LAST-MODIFIED:20250623T185105Z
UID:10005695-1777050000-1777060800@eagles3204.com
SUMMARY:Dinner Special - Steak Night
DESCRIPTION:
URL:https://eagles3204.com/event/dinner-special-steak-night-101/2026-04-24/
END:VEVENT
BEGIN:VEVENT
DTSTART;TZID=America/New_York:20260425T080000
DTEND;TZID=America/New_York:20260425T170000
DTSTAMP:20260424T044412
CREATED:20250627T125630Z
LAST-MODIFIED:20250627T125630Z
UID:10005999-1777104000-1777136400@eagles3204.com
SUMMARY:SWP-SMP Charity Golf Tournament - Staunton
DESCRIPTION:
URL:https://eagles3204.com/event/swp-smp-charity-golf-tournament-staunton/
END:VEVENT
BEGIN:VEVENT
DTSTART;TZID=America/New_York:20260427T170000
DTEND;TZID=America/New_York:20260427T200000
DTSTAMP:20260424T044412
CREATED:20260320T175833Z
LAST-MODIFIED:20260320T175833Z
UID:10006707-1777309200-1777320000@eagles3204.com
SUMMARY:Dinner Special - Steak Quesadilla
DESCRIPTION:
URL:https://eagles3204.com/event/dinner-special-steak-quesadilla-5/
END:VEVENT
BEGIN:VEVENT
DTSTART;TZID=America/New_York:20260427T173000
DTEND;TZID=America/New_York:20260427T183000
DTSTAMP:20260424T044412
CREATED:20230828T124351Z
LAST-MODIFIED:20251028T205819Z
UID:10006259-1777311000-1777314600@eagles3204.com
SUMMARY:Trustee Meeting
DESCRIPTION:
URL:https://eagles3204.com/event/trustee-meeting/2026-04-27/
END:VEVENT
BEGIN:VEVENT
DTSTART;TZID=America/New_York:20260427T173000
DTEND;TZID=America/New_York:20260427T210000
DTSTAMP:20260424T044412
CREATED:20230828T124258Z
LAST-MODIFIED:20230828T124258Z
UID:10003879-1777311000-1777323600@eagles3204.com
SUMMARY:Line Dancing
DESCRIPTION:Intermediate 5:30 pm \nImprover 6:30 pm \nBeginner 7:30 pm
URL:https://eagles3204.com/event/line-dancing/2026-04-27/
END:VEVENT
BEGIN:VEVENT
DTSTART;TZID=America/New_York:20260428T170000
DTEND;TZID=America/New_York:20260428T200000
DTSTAMP:20260424T044412
CREATED:20260320T175847Z
LAST-MODIFIED:20260320T175847Z
UID:10006708-1777395600-1777406400@eagles3204.com
SUMMARY:Dinner Special - Steamed Shrimp
DESCRIPTION:
URL:https://eagles3204.com/event/dinner-special-steamed-shrimp-4/
END:VEVENT
BEGIN:VEVENT
DTSTART;TZID=America/New_York:20260429T170000
DTEND;TZID=America/New_York:20260429T200000
DTSTAMP:20260424T044412
CREATED:20260320T175847Z
LAST-MODIFIED:20260320T175847Z
UID:10006709-1777482000-1777492800@eagles3204.com
SUMMARY:Dinner Special - Chicken Cacciatore
DESCRIPTION:
URL:https://eagles3204.com/event/dinner-special-chicken-cacciatore-3/
END:VEVENT
BEGIN:VEVENT
DTSTART;TZID=America/New_York:20260430T170000
DTEND;TZID=America/New_York:20260430T200000
DTSTAMP:20260424T044412
CREATED:20260320T175847Z
LAST-MODIFIED:20260320T175847Z
UID:10006710-1777568400-1777579200@eagles3204.com
SUMMARY:Dinner Special - Pot Roast
DESCRIPTION:
URL:https://eagles3204.com/event/dinner-special-pot-roast-16/
END:VEVENT
BEGIN:VEVENT
DTSTART;TZID=America/New_York:20260501T170000
DTEND;TZID=America/New_York:20260501T200000
DTSTAMP:20260424T044412
CREATED:20250523T114131Z
LAST-MODIFIED:20250623T185105Z
UID:10005696-1777654800-1777665600@eagles3204.com
SUMMARY:Dinner Special - Steak Night
DESCRIPTION:
URL:https://eagles3204.com/event/dinner-special-steak-night-101/2026-05-01/
END:VEVENT
BEGIN:VEVENT
DTSTART;TZID=America/New_York:20260502T170000
DTEND;TZID=America/New_York:20260502T220000
DTSTAMP:20260424T044412
CREATED:20240508T142851Z
LAST-MODIFIED:20240508T142851Z
UID:10004615-1777741200-1777759200@eagles3204.com
SUMMARY:Auxiliary Dinner
DESCRIPTION:
URL:https://eagles3204.com/event/auxiliary-dinner-19/2026-05-02/
END:VEVENT
BEGIN:VEVENT
DTSTART;TZID=America/New_York:20260504T170000
DTEND;TZID=America/New_York:20260504T200000
DTSTAMP:20260424T044412
CREATED:20260423T215408Z
LAST-MODIFIED:20260423T215408Z
UID:10006746-1777914000-1777924800@eagles3204.com
SUMMARY:Dinner Special - Coconut Shrimp
DESCRIPTION:
URL:https://eagles3204.com/event/dinner-special-coconut-shrimp-2/
END:VEVENT
BEGIN:VEVENT
DTSTART;TZID=America/New_York:20260504T173000
DTEND;TZID=America/New_York:20260504T183000
DTSTAMP:20260424T044412
CREATED:20230828T124351Z
LAST-MODIFIED:20251028T205819Z
UID:10006260-1777915800-1777919400@eagles3204.com
SUMMARY:Trustee Meeting
DESCRIPTION:
URL:https://eagles3204.com/event/trustee-meeting/2026-05-04/
END:VEVENT
BEGIN:VEVENT
DTSTART;TZID=America/New_York:20260504T173000
DTEND;TZID=America/New_York:20260504T210000
DTSTAMP:20260424T044412
CREATED:20230828T124258Z
LAST-MODIFIED:20230828T124258Z
UID:10003880-1777915800-1777928400@eagles3204.com
SUMMARY:Line Dancing
DESCRIPTION:Intermediate 5:30 pm \nImprover 6:30 pm \nBeginner 7:30 pm
URL:https://eagles3204.com/event/line-dancing/2026-05-04/
END:VEVENT
BEGIN:VEVENT
DTSTART;TZID=America/New_York:20260505T170000
DTEND;TZID=America/New_York:20260505T200000
DTSTAMP:20260424T044412
CREATED:20260423T215408Z
LAST-MODIFIED:20260423T215408Z
UID:10006747-1778000400-1778011200@eagles3204.com
SUMMARY:Dinner Special - Taco Salad
DESCRIPTION:
URL:https://eagles3204.com/event/dinner-special-taco-salad-7/
END:VEVENT
BEGIN:VEVENT
DTSTART;TZID=America/New_York:20260505T183000
DTEND;TZID=America/New_York:20260505T190000
DTSTAMP:20260424T044412
CREATED:20220504T141222Z
LAST-MODIFIED:20220504T141222Z
UID:10001690-1778005800-1778007600@eagles3204.com
SUMMARY:JOM
DESCRIPTION:
URL:https://eagles3204.com/event/jom-8/2026-05-05/
END:VEVENT
BEGIN:VEVENT
DTSTART;TZID=America/New_York:20260505T190000
DTEND;TZID=America/New_York:20260505T203000
DTSTAMP:20260424T044412
CREATED:20220504T141129Z
LAST-MODIFIED:20230822T164919Z
UID:10003711-1778007600-1778013000@eagles3204.com
SUMMARY:Auxiliary Meeting
DESCRIPTION:
URL:https://eagles3204.com/event/auxiliary-meeting-17/2026-05-05/
END:VEVENT
BEGIN:VEVENT
DTSTART;TZID=America/New_York:20260506T170000
DTEND;TZID=America/New_York:20260506T200000
DTSTAMP:20260424T044412
CREATED:20260423T215408Z
LAST-MODIFIED:20260423T215408Z
UID:10006748-1778086800-1778097600@eagles3204.com
SUMMARY:Dinner Special - Stuffed chicken
DESCRIPTION:
URL:https://eagles3204.com/event/dinner-special-stuffed-chicken-2/
END:VEVENT
BEGIN:VEVENT
DTSTART;TZID=America/New_York:20260507T170000
DTEND;TZID=America/New_York:20260507T200000
DTSTAMP:20260424T044412
CREATED:20230601T203932Z
LAST-MODIFIED:20251124T140832Z
UID:10003011-1778173200-1778184000@eagles3204.com
SUMMARY:Free Birthday Dinner
DESCRIPTION:If this is your Birthday Month\, come and have dinner on us!
URL:https://eagles3204.com/event/free-birthday-dinner/2026-05-07/
ATTACH;FMTTYPE=image/jpeg:https://eagles3204.com/wp-content/uploads/2023/06/BirthdayDinner.jpg
END:VEVENT
BEGIN:VEVENT
DTSTART;TZID=America/New_York:20260507T170000
DTEND;TZID=America/New_York:20260507T200000
DTSTAMP:20260424T044412
CREATED:20260423T215408Z
LAST-MODIFIED:20260423T215408Z
UID:10006749-1778173200-1778184000@eagles3204.com
SUMMARY:Dinner Special - Lasagna
DESCRIPTION:
URL:https://eagles3204.com/event/dinner-special-lasagna-44/
END:VEVENT
BEGIN:VEVENT
DTSTART;TZID=America/New_York:20260507T190000
DTEND;TZID=America/New_York:20260507T203000
DTSTAMP:20260424T044412
CREATED:20230314T140953Z
LAST-MODIFIED:20230314T140953Z
UID:10002746-1778180400-1778185800@eagles3204.com
SUMMARY:Aerie Meeting
DESCRIPTION:
URL:https://eagles3204.com/event/aerie-meeting-11/2026-05-07/
END:VEVENT
BEGIN:VEVENT
DTSTART;TZID=America/New_York:20260508T170000
DTEND;TZID=America/New_York:20260508T200000
DTSTAMP:20260424T044412
CREATED:20250523T114131Z
LAST-MODIFIED:20250623T185105Z
UID:10005697-1778259600-1778270400@eagles3204.com
SUMMARY:Dinner Special - Steak Night
DESCRIPTION:
URL:https://eagles3204.com/event/dinner-special-steak-night-101/2026-05-08/
END:VEVENT
BEGIN:VEVENT
DTSTART;TZID=America/New_York:20260509T170000
DTEND;TZID=America/New_York:20260509T200000
DTSTAMP:20260424T044412
CREATED:20260423T215914Z
LAST-MODIFIED:20260423T215914Z
UID:10006762-1778346000-1778356800@eagles3204.com
SUMMARY:Diabetes Awareness Fundraiser
DESCRIPTION:
URL:https://eagles3204.com/event/diabetes-awareness-fundraiser/
ATTACH;FMTTYPE=image/jpeg:https://eagles3204.com/wp-content/uploads/2026/04/Diabetes-Dinner.jpg
END:VEVENT
BEGIN:VEVENT
DTSTART;TZID=America/New_York:20260510T090000
DTEND;TZID=America/New_York:20260510T110000
DTSTAMP:20260424T044412
CREATED:20240830T171649Z
LAST-MODIFIED:20240830T171649Z
UID:10003387-1778403600-1778410800@eagles3204.com
SUMMARY:Aerie Delegates Brunch
DESCRIPTION:
URL:https://eagles3204.com/event/aerie-delegates-brunch-2-3-2/2026-05-10/
END:VEVENT
BEGIN:VEVENT
DTSTART;TZID=America/New_York:20260511T170000
DTEND;TZID=America/New_York:20260511T200000
DTSTAMP:20260424T044412
CREATED:20260423T215408Z
LAST-MODIFIED:20260423T215408Z
UID:10006750-1778518800-1778529600@eagles3204.com
SUMMARY:Dinner Special - Beef Burrito
DESCRIPTION:
URL:https://eagles3204.com/event/dinner-special-beef-burrito-11/
END:VEVENT
BEGIN:VEVENT
DTSTART;TZID=America/New_York:20260511T173000
DTEND;TZID=America/New_York:20260511T183000
DTSTAMP:20260424T044412
CREATED:20230828T124351Z
LAST-MODIFIED:20251028T205819Z
UID:10006261-1778520600-1778524200@eagles3204.com
SUMMARY:Trustee Meeting
DESCRIPTION:
URL:https://eagles3204.com/event/trustee-meeting/2026-05-11/
END:VEVENT
BEGIN:VEVENT
DTSTART;TZID=America/New_York:20260511T173000
DTEND;TZID=America/New_York:20260511T210000
DTSTAMP:20260424T044412
CREATED:20230828T124258Z
LAST-MODIFIED:20230828T124258Z
UID:10003881-1778520600-1778533200@eagles3204.com
SUMMARY:Line Dancing
DESCRIPTION:Intermediate 5:30 pm \nImprover 6:30 pm \nBeginner 7:30 pm
URL:https://eagles3204.com/event/line-dancing/2026-05-11/
END:VEVENT
BEGIN:VEVENT
DTSTART;TZID=America/New_York:20260512T170000
DTEND;TZID=America/New_York:20260512T200000
DTSTAMP:20260424T044412
CREATED:20260423T215411Z
LAST-MODIFIED:20260423T215411Z
UID:10006751-1778605200-1778616000@eagles3204.com
SUMMARY:Dinner Special - Chicken n Dumplings
DESCRIPTION:
URL:https://eagles3204.com/event/dinner-special-chicken-n-dumplings/
END:VEVENT
BEGIN:VEVENT
DTSTART;TZID=America/New_York:20260512T190000
DTEND;TZID=America/New_York:20260512T203000
DTSTAMP:20260424T044412
CREATED:20220504T141354Z
LAST-MODIFIED:20221116T153041Z
UID:10001752-1778612400-1778617800@eagles3204.com
SUMMARY:Eagle Riders Meeting
DESCRIPTION:
URL:https://eagles3204.com/event/eagle-riders-meeting-8/2026-05-12/
END:VEVENT
BEGIN:VEVENT
DTSTART;TZID=America/New_York:20260513T170000
DTEND;TZID=America/New_York:20260513T200000
DTSTAMP:20260424T044412
CREATED:20260423T215411Z
LAST-MODIFIED:20260423T215411Z
UID:10006752-1778691600-1778702400@eagles3204.com
SUMMARY:Dinner Special - Blankened Tuna Pasta Alfredo
DESCRIPTION:
URL:https://eagles3204.com/event/dinner-special-blankened-tuna-pasta-alfredo/
END:VEVENT
BEGIN:VEVENT
DTSTART;TZID=America/New_York:20260513T190000
DTEND;TZID=America/New_York:20260513T210000
DTSTAMP:20260424T044412
CREATED:20250813T205028Z
LAST-MODIFIED:20250813T205028Z
UID:10006062-1778698800-1778706000@eagles3204.com
SUMMARY:Building Committee
DESCRIPTION:
URL:https://eagles3204.com/event/building-committee/2026-05-13/
END:VEVENT
END:VCALENDAR